BEGIN:VCALENDAR
VERSION:2.0
PRODID:-//https://nuorisoseurarekisteri.fi///Tapahtumakalenteri//FI
CALSCALE:GREGORIAN
BEGIN:VEVENT
SUMMARY:Tulikärpäset - keskisuomalainen nuorten teatteriverkosto
UID:3657
DTSTART:20260101T000000
DTEND:20261231T235900
DTSTAMP:20260414T122511
DESCRIPTION:\n\nhttps://nuorisoseurarekisteri.fi/Toimintaryhmat/tapahtumatiedot.aspx?id=3657
END:VEVENT
END:VCALENDAR
